BEGIN:VCALENDAR
VERSION:2.0
PRODID:-//Library Market//iCal Export//EN
BEGIN:VEVENT
SUMMARY:Mini Big Top Circus Show
UID:2445
DTSTAMP:20260420T002200Z
DTSTART:20260516T170000Z
DTEND:20260516T180000Z
LOCATION:Sturbridge Town Common, 278 Main St, Sturbridge, MA 01566, United
  States
ROOM: Offsite
DESCRIPTION:The (mini) circus is coming to town! The JHPL is happy to be p
 artnering with performing group Small But Mighty to bring a circus show an
 d workshop to the Family Fun Day festivities. The show is free for all to 
 enjoy. 
URL:https://www.sturbridgelibrary.org/event/mini-big-top-circus-2445
END:VEVENT
END:VCALENDAR
