BEGIN:VCALENDAR
VERSION:2.0
PRODID:-//Library Market//iCal Export//EN
BEGIN:VEVENT
SUMMARY:Pokémon Club
UID:2844
DTSTAMP:20260420T002200Z
DTSTART:20260521T220000Z
DTEND:20260521T230000Z
LOCATION:306 Main Street, Sturbridge, MA 01566, United States
ROOM: Meeting Room
DESCRIPTION:Young Pokémon fans and their caregivers are invited to join u
 s for themed activities and fun! Kids can also bring their card collection
 s to play the official TCG game or simply show off their favorites.
URL:https://www.sturbridgelibrary.org/event/pokemon-club-2844
END:VEVENT
END:VCALENDAR
