BEGIN:VCALENDAR
VERSION:2.0
PRODID:-//Library Market//iCal Export//EN
BEGIN:VEVENT
SUMMARY:Come As You Are: Stress, Context &amp; the Brain
UID:3092
DTSTAMP:20260420T000300Z
DTSTART:20260505T223000Z
DTEND:20260506T000000Z
LOCATION:Sturbridge Town Hall, 308 Main Street, STURBRIDGE, MA 01566, Unit
 ed States
ROOM: Offsite
DESCRIPTION:Part 2 of 3 part discussion of the book Come as You Are: The S
 urprising New Science That Will Transform Your Sex Life by Emily Nagoski, 
 PhD.The topic of this discussion is Stress, Context, and the Brain - For a
 nyone feeling blocked, overwhelmed, or disconnected from desire You can a
 ttend any or all of the 3 discussions.  The discussions will take place u
 pstairs at the Sturbridge Town Hall.Discussion is led by Kelly Tull, WHNP,
  CSC from Venus CollectiveBooks are available at the JHPL, and downloadabl
 e as e-books or e-audio on Libby.   
URL:https://www.sturbridgelibrary.org/event/come-you-are-topic-3092
END:VEVENT
END:VCALENDAR
