BEGIN:VCALENDAR
VERSION:2.0
PRODID:-//Library Market//iCal Export//EN
BEGIN:VEVENT
SUMMARY:Come As You Are:  Body Image, Pleasure, &amp; Self-Trust
UID:3093
DTSTAMP:20260420T002200Z
DTSTART:20260512T223000Z
DTEND:20260513T000000Z
LOCATION:Sturbridge Town Hall, 308 Main Street, STURBRIDGE, MA 01566, Unit
 ed States
ROOM: Offsite
DESCRIPTION:The final discussion of the book Come as You Are: The Surprisi
 ng New Science That Will Transform Your Sex Life by Emily Nagoski, PhD.The
  topic of this discussion is Body Image, Pleasure, &amp; Self-Trust - For 
 anyone wanting practical tools for self-acceptance and more pleasureYou ca
 n attend any or all of the 3 discussions.  The discussions will take plac
 e upstairs at the Sturbridge Town Hall.Discussion is led by Kelly Tull, WH
 NP, CSC from Venus CollectiveBooks are available at the JHPL, and download
 able as e-books or e-audio on Libby.  
URL:https://www.sturbridgelibrary.org/event/come-you-are-topic-3093
END:VEVENT
END:VCALENDAR
