BEGIN:VCALENDAR
VERSION:2.0
PRODID:-//Library Market//iCal Export//EN
BEGIN:VEVENT
SUMMARY:Becoming the Ancestor Your Family Remembers: documenting your own 
 life
UID:3393
DTSTAMP:20260419T232500Z
DTSTART:20260604T180000Z
DTEND:20260604T193000Z
LOCATION:Sturbridge Senior Center, 480 Main Street, STURBRIDGE, MA 01566, 
 United States
ROOM: Offsite
DESCRIPTION:This session offers practical guidance on documenting your own
  life story using a variety of formats—from job applications and photo c
 aptions to vivid personal memories. Leave behind more than just dates—le
 ave your voice, your story, and your legacy.This event is sponsored by the
  Friends of the JHPL in cooperation with the Sturbridge Council on AgingSe
 ema-Jayne Kenney : Seema has a certificate in Genealogical Research from B
 U, completed ProGen and is an active member of several societies and part 
 of the NERGC planning committee.  A wife, mother of 3, and entrepreneur, 
 Seema is an experienced software instructor and a professional genealogist
 . Based on over 20 years of research, her known roots are deep in New Engl
 and as well as England, Germany, and Sweden. Her DNA research has now adde
 d The Netherlands to that list.
URL:https://www.sturbridgelibrary.org/event/becoming-ancestor-your-family-
 remembers-documenting-your-own-life-3393
END:VEVENT
END:VCALENDAR
