BEGIN:VCALENDAR
VERSION:2.0
PRODID:-//Library Market//iCal Export//EN
BEGIN:VEVENT
SUMMARY:Cricut Club and 3D Printing-For Kids!
UID:3602
DTSTAMP:20260419T222200Z
DTSTART:20260422T183000Z
DTEND:20260422T203000Z
LOCATION:306 Main Street, Sturbridge, MA 01566, United States
ROOM: Meeting Room
DESCRIPTION:Kids ages 7-12 are invited to join the JHPL and Our Bright Fut
 ure for two hours of crafting and making! They’ll have the opportunity t
 o work with an authentic Cricut machine and heat press, bringing their des
 igns to life, as well as a 3D printer and accompanying software. Registrat
 ion is required.
URL:https://www.sturbridgelibrary.org/event/cricut-club-and-3d-printing-ki
 ds-3602
END:VEVENT
END:VCALENDAR
