BEGIN:VCALENDAR
VERSION:2.0
PRODID:-//Library Market//iCal Export//EN
BEGIN:VEVENT
SUMMARY:Book Speed Dating @ Deep Roots Distillery
UID:3659
DTSTAMP:20260419T130300Z
DTSTART:20260528T223000Z
DTEND:20260529T003000Z
LOCATION:Deep Roots Distillery, 559 Main Street, Unit 209, STURBRIDGE, MA 
 01566, United States
ROOM: Offsite
DESCRIPTION:TICKETS NOW ON SALE :  Purchase Tickets HereFind your next gr
 eat read!Think speed dating, but instead of talking about yourself, you ta
 lk about that book you want to recommend to everyone. How It Works:Sign u
 p to talk about one book - any genre -  you love... or one you&#039;re ob
 sessed with, confused by, or desperate to press into someone else&#039;s h
 ands.Spend the evening sharing it with a rotating cast of fellow readers o
 ver a round of handcrafted cocktails and snacksLeave the event with 29 new
  titles - from 29 other book lovers - to put on your summer reading list!Y
 ou&#039;ll have 90 seconds at each table to pitch your pick. No swiping. N
 o small talk. Just books.Space is limited to just 30 people! Tickets are $
 10 and include one cocktail or non-alcoholic drink of your choice and snac
 ks. Additional food and drinks will be available for purchase. Ages 21+ 
URL:https://www.sturbridgelibrary.org/event/book-speed-dating-deep-roots-3
 659
END:VEVENT
END:VCALENDAR
