BEGIN:VCALENDAR
VERSION:2.0
PRODID:-//Library Market//iCal Export//EN
BEGIN:VEVENT
SUMMARY:Friends of the JHPL Ex Bd Meeting
UID:3660
DTSTAMP:20260420T034600Z
DTSTART:20260416T200000Z
DTEND:20260416T213000Z
LOCATION:306 Main Street, Sturbridge, MA 01566, United States
ROOM: Meeting Room
DESCRIPTION:Friends of the JHPL Executive Board meeting
URL:https://www.sturbridgelibrary.org/event/friends-jhpl-ex-bd-meeting-366
 0
END:VEVENT
END:VCALENDAR
