BEGIN:VCALENDAR
VERSION:2.0
PRODID:-//Library Market//iCal Export//EN
BEGIN:VEVENT
SUMMARY:Let&#039;s Meet... A DPW Worker!
UID:3674
DTSTAMP:20260419T222200Z
DTSTART:20260502T170000Z
DTEND:20260502T180000Z
LOCATION:306 Main Street, Sturbridge, MA 01566, United States
ROOM: Meeting Room
DESCRIPTION:Let&#039;s meet a DPW worker! A local DPW worker for Sturbridg
 e, will be stopping by the library to talk to kids about the important wor
 k a DPW department does for its town. Children will have the chance to ask
  questions, learn what it takes to keep a place like Sturbridge running sm
 oothly, and make a craft. We&#039;ll even get to see a dump truck up close
  and personal! We can&#039;t wait to meet Brian!
URL:https://www.sturbridgelibrary.org/event/lets-meet-dpw-worker-3674
END:VEVENT
END:VCALENDAR
