BEGIN:VCALENDAR
VERSION:2.0
PRODID:-//Library Market//iCal Export//EN
BEGIN:VEVENT
SUMMARY:Family Craft Time: Paper Flowers
UID:3678
DTSTAMP:20260419T222100Z
DTSTART:20260504T193000Z
DTEND:20260504T203000Z
LOCATION:306 Main Street, Sturbridge, MA 01566, United States
ROOM: Meeting Room
DESCRIPTION:Children and their caretakers are invited to create their own 
 variety of paper flowers.
URL:https://www.sturbridgelibrary.org/event/family-craft-time-paper-flower
 s-3678
END:VEVENT
END:VCALENDAR
