BEGIN:VCALENDAR
VERSION:2.0
PRODID:-//Library Market//iCal Export//EN
BEGIN:VEVENT
SUMMARY:A Discussion with Romance Author Rebecca Zanetti
UID:3683
DTSTAMP:20260420T000300Z
DTSTART:20260504T230000Z
DTEND:20260505T000000Z
LOCATION:
DESCRIPTION:**PLEASE NOTE THIS IS A VIRTUAL PROGRAM THAT WILL TAKE PLACE V
 IA ZOOM. Registrants will receive a link to access the Zoom Webinar via em
 ail.**Â Â You all know how much we love our talk with romance authors and 
 this one is a doozy! We&#039;re chatting with mega-star, Rebecca Zanetti, 
 and we&#039;re catching her between book launches! &quot;You Can Scream&qu
 ot;, The fifth book in the Laurel Snow series will be out in December 2025
  and &quot;One Shattered Crown&quot;, the 3rd book in the Grimm Bargains s
 eries comes out in June 2026! We&#039;ll be celebrating Rebecca&#039;s boo
 ks as well as discussing her glamorous life as a best-selling author. We h
 ope you can join us for what will be a fun and fascinating conversation!Â 
 RECORDING NOTE: This program will be recorded. All registrants will receiv
 e the recording via email within 48 hours of the program.Â AboutÂ Rebecca:
 New York Times, USA Today, Publishers Weekly and #1 Amazon bestselling aut
 hor Rebecca Zanetti has published more than seventy novels, which have bee
 n translated into several languages, with more than five million copies so
 ld world-wide. Her books have received Publishers Weekly starred reviews a
 nd have been featured in Entertainment Weekly, Womanâ€™s World, and Womenâ
 €™s Day Magazines. Her novels have also been included in Amazon best books
  of the year and have been favorably reviewed in both the Washington Post 
 and the New York Times Book Reviews. Rebecca has ridden in a locked Chevy 
 trunk, has asked the unfortunate delivery guy to release her from a set of
  handcuffs, and has discovered the best silver mine shafts in which to bur
 y a bodyâ€¦all in the name of research. Honest. Learn more about Rebecca a
 nd her books on her website.Â This program is sponsored by the Friends of 
 the Ashland Public Library and in partnership with a multitude of MA Libra
 ries. We are thrilled to be partnering with the Ashland Senior Center for 
 this event.
URL:https://www.sturbridgelibrary.org/event/discussion-romance-author-rebe
 cca-zanetti-3683
END:VEVENT
END:VCALENDAR
