BEGIN:VCALENDAR
VERSION:2.0
PRODID:-//Library Market//iCal Export//EN
BEGIN:VEVENT
SUMMARY:&quot;A Guardian and a Thief&quot; with author Megha Majumdar
UID:3685
DTSTAMP:20260420T000300Z
DTSTART:20260511T233000Z
DTEND:20260512T003000Z
LOCATION:
DESCRIPTION:**PLEASE NOTE THIS IS A VIRTUAL PROGRAM THAT WILL TAKE PLACE V
 IA ZOOM. Registrants will receive a link to access the Zoom Webinar via em
 ail.**  We&#039;re so thrilled to be chatting with author Megha Majumdar
  about her most recent book, A Guardian and A Thief, an Oprah&#039;s Book 
 Club Pick! “Wondering if there’s a novel out there that gives Cormac M
 cCarthy’s The Road a run for its money? Here you go. [A Guardian and a T
 hief is] an indelible piece of writing, in equal parts dazzling and devast
 ating.”—Stacy Schiff, author of Cleopatra: A Life.This program is at p
 m 7:30pm ET (Boston Time). We will NOT be recording this session.Please re
 gister for this event and you&#039;ll receive the link in the confirmation
  and reminder emails - make sure to check your spam folder for them, the e
 mail will be coming from Zoom.This program is sponsored by the Friends of 
 the Ashland Public Library and in partnership with a multitude of MA Libra
 ries. We are also thrilled to be partnering with the Ashland Senior Center
  for this event.
URL:https://www.sturbridgelibrary.org/event/guardian-and-thief-author-megh
 a-majumdar-3685
END:VEVENT
END:VCALENDAR
