BEGIN:VCALENDAR
VERSION:2.0
PRODID:-//Library Market//iCal Export//EN
BEGIN:VEVENT
SUMMARY:Family Craft Time: Clay Trinket Dishes
UID:3700
DTSTAMP:20260420T000300Z
DTSTART:20260518T193000Z
DTEND:20260518T203000Z
LOCATION:306 Main Street, Sturbridge, MA 01566, United States
ROOM: Meeting Room
DESCRIPTION:Kids are invited to come make their own trinket dishes using a
 ir dry clay and all sorts of fun decorations!
URL:https://www.sturbridgelibrary.org/event/family-craft-time-clay-trinket
 -dishes-3700
END:VEVENT
END:VCALENDAR
