BEGIN:VCALENDAR
VERSION:2.0
PRODID:-//Library Market//iCal Export//EN
BEGIN:VEVENT
SUMMARY:Basic Tech Help
UID:3704
DTSTAMP:20260419T232500Z
DTSTART:20260715T210000Z
DTEND:20260715T230000Z
LOCATION:306 Main St, Sturbridge, MA 01566, United States
ROOM: Main Floor
DESCRIPTION:Free tech assistance! Bring your own device or use our availab
 le computers. Making an appointment is encouraged and can be done so here:
  Make a Tech Help AppointmentWe can assist with: Printing, E-mailing, Micr
 osoft Office Suite, Google Suite, word processing, digitizing photos and s
 canning documents, setting up eBooks and audio books through Libby onto yo
 ur tablet or smartphone, device setup and updates, basic smartphone and ta
 blet use, accessing Library databases and resources, and more. Need help w
 ith something else? Just ask! Please note: This is BASIC tech assistance. 
 We cannot repair broken devices, recover lost passwords, or enter your pri
 vate information (such as a bank number) online. Please have your passwor
 ds on hand. 
URL:https://www.sturbridgelibrary.org/event/basic-tech-help-3704
END:VEVENT
END:VCALENDAR
